BEGIN:VCALENDAR
VERSION:2.0
PRODID:-//Rosemary Square - ECPv6.15.20//NONSGML v1.0//EN
CALSCALE:GREGORIAN
METHOD:PUBLISH
X-WR-CALNAME:Rosemary Square
X-ORIGINAL-URL:https://rosemarysquare.com
X-WR-CALDESC:Events for Rosemary Square
REFRESH-INTERVAL;VALUE=DURATION:PT1H
X-Robots-Tag:noindex
X-PUBLISHED-TTL:PT1H
BEGIN:VTIMEZONE
TZID:America/New_York
BEGIN:DAYLIGHT
TZOFFSETFROM:-0500
TZOFFSETTO:-0400
TZNAME:EDT
DTSTART:20180311T070000
END:DAYLIGHT
BEGIN:STANDARD
TZOFFSETFROM:-0400
TZOFFSETTO:-0500
TZNAME:EST
DTSTART:20181104T060000
END:STANDARD
BEGIN:DAYLIGHT
TZOFFSETFROM:-0500
TZOFFSETTO:-0400
TZNAME:EDT
DTSTART:20190310T070000
END:DAYLIGHT
BEGIN:STANDARD
TZOFFSETFROM:-0400
TZOFFSETTO:-0500
TZNAME:EST
DTSTART:20191103T060000
END:STANDARD
BEGIN:DAYLIGHT
TZOFFSETFROM:-0500
TZOFFSETTO:-0400
TZNAME:EDT
DTSTART:20200308T070000
END:DAYLIGHT
BEGIN:STANDARD
TZOFFSETFROM:-0400
TZOFFSETTO:-0500
TZNAME:EST
DTSTART:20201101T060000
END:STANDARD
BEGIN:DAYLIGHT
TZOFFSETFROM:-0500
TZOFFSETTO:-0400
TZNAME:EDT
DTSTART:20210314T070000
END:DAYLIGHT
BEGIN:STANDARD
TZOFFSETFROM:-0400
TZOFFSETTO:-0500
TZNAME:EST
DTSTART:20211107T060000
END:STANDARD
BEGIN:DAYLIGHT
TZOFFSETFROM:-0500
TZOFFSETTO:-0400
TZNAME:EDT
DTSTART:20220313T070000
END:DAYLIGHT
BEGIN:STANDARD
TZOFFSETFROM:-0400
TZOFFSETTO:-0500
TZNAME:EST
DTSTART:20221106T060000
END:STANDARD
END:VTIMEZONE
BEGIN:VEVENT
DTSTART;TZID=America/New_York:20211211T090000
DTEND;TZID=America/New_York:20211211T160000
DTSTAMP:20260420T041820
CREATED:20211123T163416Z
LAST-MODIFIED:20211126T212737Z
UID:544-1639213200-1639238400@rosemarysquare.com
SUMMARY:Nutcracker Festival
DESCRIPTION:The Sarasota Ballet School is pleased to announce that they are having their\, now annual\, Nutcracker Festival on Saturday\, December 11 (rain date Sunday\, December 12) in the Courtyard of Rosemary Square. \nThis day will be full of performances by our School\, Conservatory and Dance\, the Next Generation program students from 9:00am – 4:00pm. There will also be a Holiday Market coordinated by The Green Bazaar. \nFor more information\, visit:\nhttps://www.sarasotaballet.org/events/sarasota-ballet-schools-nutcracker-festival
URL:https://rosemarysquare.com/event/nutcracker-festival/
LOCATION:The Courtyard of Rosemary Square\, 1400 Blvd of the Arts\, Sarasota\, 34236\, United States
CATEGORIES:art
ATTACH;FMTTYPE=image/jpeg:https://rosemarysquare.com/wp-content/uploads/Nutcracker-Festival.jpeg
END:VEVENT
BEGIN:VEVENT
DTSTART;VALUE=DATE:20190801
DTEND;VALUE=DATE:20191206
DTSTAMP:20260420T041820
CREATED:20190926T195227Z
LAST-MODIFIED:20191206T153645Z
UID:405-1564617600-1575590399@rosemarysquare.com
SUMMARY:Murals Creation
DESCRIPTION:Schedule\nAugust: Ballet by Truman Adams @trumanadamsart\nSeptember: Contemporary Dance by Truman Adams @trumanadamsart\nOctober: Theatre by Careth Christine @carethchristine\nNovember: Opera by Bianca Burrows @itsbbart\nDecember: Visual/Architectural by Pamela Olin @pamelaolin \nFor more information\, visit the Murals page.
URL:https://rosemarysquare.com/event/murals-creation/
CATEGORIES:art
ATTACH;FMTTYPE=image/jpeg:https://rosemarysquare.com/wp-content/uploads/Truman-Adams-Ballet-1.jpg
END:VEVENT
END:VCALENDAR